BEGIN:VCALENDAR
VERSION:2.0
PRODID:-//wp-events-plugin.com//6.4.10//EN
BEGIN:VEVENT
UID:125@asociacionsat.com.ar
DTSTART;TZID=America/Argentina/Buenos_Aires:20240810T200000
DTEND;TZID=America/Argentina/Buenos_Aires:20240810T235900
DTSTAMP:20240806T120317Z
URL:https://asociacionsat.com.ar/eventos/eneacine-agosto/
SUMMARY:ENEACINE (Agosto)
DESCRIPTION:El sábado 10 de agosto a las 20 h te invitamos al encuentro de
  Eneacine en Mendoza. Un encuentro para ver una hermosa película\, percib
 ir\, debatir sobre la búsqueda interna y profundizar nuestro autoconocimi
 ento desde el arte cinematográfico.\n\nEn esta ocasión\, proyectaremos 
  *La Favorita*\, de Yorgos Lanthimos. un drama de época sobre dos mujere
 s (Emma Stone y Rachel Weisz) que compiten por el favor de la reina Ana (O
 livia Colman) en la Inglaterra del siglo XVIII.\n\nY luego a compartir un 
 rico plato preparado artesanalmente por nosotros.
ATTACH;FMTTYPE=image/jpeg:https://asociacionsat.com.ar//wp-content/uploads
 /2024/08/Mesa-de-trabajo-1ENEACINE_La-Favorita_en-baja.jpg
CATEGORIES:Eneacine
END:VEVENT
BEGIN:VTIMEZONE
TZID:America/Argentina/Buenos_Aires
X-LIC-LOCATION:America/Argentina/Buenos_Aires
BEGIN:STANDARD
DTSTART:20230811T200000
TZOFFSETFROM:-0300
TZOFFSETTO:-0300
TZNAME:-03
END:STANDARD
END:VTIMEZONE
END:VCALENDAR