BEGIN:VCALENDAR
VERSION:2.0
PRODID:-//wp-events-plugin.com//6.4.10//EN
BEGIN:VEVENT
UID:220@asociacionsat.com.ar
DTSTART;TZID=America/Argentina/Buenos_Aires;VALUE=DATE:20250905
DTEND;TZID=America/Argentina/Buenos_Aires;VALUE=DATE:20250908
DTSTAMP:20250811T150306Z
URL:https://asociacionsat.com.ar/eventos/eneagrama-cordoba-sept-2025/
SUMMARY:Introducción a la Psicología de los Eneatipos: El Eneagrama segú
 n Claudio Naranjo (Córdoba - Septiembre 2025)
DESCRIPTION:El Taller "Psicología de los Eneatipos: El Eneagrama según Cl
 audio Naranjo”\, es la puerta de entrada al Programa SAT\, un laboratori
 o grupal y experiencial diseñado y perfeccionado por más de 40 años por
  Claudio Naranjo.
ATTACH;FMTTYPE=image/jpeg:https://asociacionsat.com.ar//wp-content/uploads
 /2025/06/Mesa-de-trabajo-1NEW_Taller-Cordoba_WEB.jpg
CATEGORIES:Introducción SAT
LOCATION:Córdoba Capital\, GRGP+4QG Córdoba\, Córdoba\, Córdoba\, X5014
 \, Centro\, Argentina
GEO:-31.474688;-64.163047
X-APPLE-STRUCTURED-LOCATION;VALUE=URI;X-ADDRESS=GRGP+4QG Córdoba\, Córdob
 a\, Córdoba\, X5014\, Centro\, Argentina;X-APPLE-RADIUS=100;X-TITLE=Córd
 oba Capital:geo:-31.474688,-64.163047
END:VEVENT
BEGIN:VTIMEZONE
TZID:America/Argentina/Buenos_Aires
X-LIC-LOCATION:America/Argentina/Buenos_Aires
BEGIN:STANDARD
DTSTART:20240905T000000
TZOFFSETFROM:-0300
TZOFFSETTO:-0300
TZNAME:-03
END:STANDARD
END:VTIMEZONE
END:VCALENDAR