BEGIN:VCALENDAR
VERSION:2.0
PRODID:-//wp-events-plugin.com//6.4.10//EN
BEGIN:VEVENT
UID:234@asociacionsat.com.ar
DTSTART;TZID=America/Argentina/Buenos_Aires:20260502T093000
DTEND;TZID=America/Argentina/Buenos_Aires:20260503T180000
DTSTAMP:20260406T215415Z
URL:https://asociacionsat.com.ar/eventos/introductorio-buenos-aires-mayo-2
 026/
SUMMARY:Introducción a la Psicología de los Eneatipos: El Eneagrama segú
 n Claudio Naranjo (Buenos Aires - Mayo 2026)
DESCRIPTION:El Taller «Psicología de los Eneatipos: El Eneagrama según C
 laudio Naranjo” es el único taller oficial del Programa SAT en Argentin
 a\, un laboratorio grupal y experiencial diseñado y perfeccionado por má
 s de 40 años por Claudio Naranjo.\n\nConstituye una experiencia teórica-
 vivencial que ofrece un mosaico de prácticas como la psicología de los e
 neatipos\, técnicas corporales\, meditación y distintas herramientas de 
 trabajo en contexto grupal.
ATTACH;FMTTYPE=image/jpeg:https://asociacionsat.com.ar//wp-content/uploads
 /2026/02/02026-Taller-Bs-As-Mayo-2026_WEB_Baja.jpg
CATEGORIES:Introducción SAT
LOCATION:Fundación Columbia\, Jorge Luis Borges 2020\, Ciudad de Buenos Ai
 res\, CABA\, C1425FFB\, Argentina
GEO:-34.58577;-58.425942
X-APPLE-STRUCTURED-LOCATION;VALUE=URI;X-ADDRESS=Jorge Luis Borges 2020\, Ci
 udad de Buenos Aires\, CABA\, C1425FFB\, Argentina;X-APPLE-RADIUS=100;X-TI
 TLE=Fundación Columbia:geo:-34.58577,-58.425942
END:VEVENT
BEGIN:VTIMEZONE
TZID:America/Argentina/Buenos_Aires
X-LIC-LOCATION:America/Argentina/Buenos_Aires
BEGIN:STANDARD
DTSTART:20250502T093000
TZOFFSETFROM:-0300
TZOFFSETTO:-0300
TZNAME:-03
END:STANDARD
END:VTIMEZONE
END:VCALENDAR