BEGIN:VCALENDAR
VERSION:2.0
PRODID:-//wp-events-plugin.com//6.4.10//EN
BEGIN:VEVENT
UID:345@asociacionsat.com.ar
DTSTART;TZID=America/Argentina/Buenos_Aires:20260925T093000
DTEND;TZID=America/Argentina/Buenos_Aires:20260927T183000
DTSTAMP:20260424T184155Z
URL:https://asociacionsat.com.ar/eventos/introductorio-cordoba-septiembre-
 2026/
SUMMARY:Introducción a la Psicología de los Eneatipos: El Eneagrama segú
 n Claudio Naranjo (Córdoba- Septiembre 2026)
DESCRIPTION:El Taller «Psicología de los Eneatipos: El Eneagrama según C
 laudio Naranjo” es el único taller oficial del Programa SAT en Argentin
 a\, un laboratorio grupal y experiencial diseñado y perfeccionado por má
 s de 40 años por Claudio Naranjo.\n\nConstituye una experiencia teórica-
 vivencial que ofrece un mosaico de prácticas como la psicología de los e
 neatipos\, técnicas corporales\, meditación y distintas herramientas de 
 trabajo en contexto grupal.
ATTACH;FMTTYPE=image/jpeg:https://asociacionsat.com.ar//wp-content/uploads
 /2026/04/Taller-Cordoba-Sept-2026_WEB_baja.jpg
CATEGORIES:Introducción SAT
LOCATION:Córdoba Capital\, GRGP+4QG Córdoba\, Córdoba\, Córdoba\, X5014
 \, Centro\, Argentina
GEO:-31.474688;-64.163047
X-APPLE-STRUCTURED-LOCATION;VALUE=URI;X-ADDRESS=GRGP+4QG Córdoba\, Córdob
 a\, Córdoba\, X5014\, Centro\, Argentina;X-APPLE-RADIUS=100;X-TITLE=Córd
 oba Capital:geo:-31.474688,-64.163047
END:VEVENT
BEGIN:VTIMEZONE
TZID:America/Argentina/Buenos_Aires
X-LIC-LOCATION:America/Argentina/Buenos_Aires
BEGIN:STANDARD
DTSTART:20250925T093000
TZOFFSETFROM:-0300
TZOFFSETTO:-0300
TZNAME:-03
END:STANDARD
END:VTIMEZONE
END:VCALENDAR