BEGIN:VCALENDAR
VERSION:2.0
PRODID:-//wp-events-plugin.com//6.4.10//EN
BEGIN:VEVENT
UID:140@asociacionsat.com.ar
DTSTART;TZID=America/Argentina/Buenos_Aires:20250123T190000
DTEND;TZID=America/Argentina/Buenos_Aires:20250123T213000
DTSTAMP:20250106T150951Z
URL:https://asociacionsat.com.ar/eventos/teatro-gestaltico-a-la-luz-del-en
 eagrama-enero-2025/
SUMMARY:Teatro Gestáltico a la luz del eneagrama (Enero 2025)
DESCRIPTION:El taller de Teatro gestáltico a la luz del eneagrama es un es
 pacio de autoconocimiento y crecimiento personal donde exploramos nuestros
  “personajes internos”\, aquellos que rechazamos o desconocemos\, para
  reconocerlos e integrarlos.
ATTACH;FMTTYPE=image/jpeg:https://asociacionsat.com.ar//wp-content/uploads
 /2025/01/Taller-Teatro-Enero-2025_en-baja.jpg
CATEGORIES:Teatro Terapéutico
LOCATION:Casa Claudio Naranjo\, Zapata y Santos Dumont\, Buenos Aires\, CAB
 A\, 1426\, Argentina
GEO:-34.585023;-58.448412
X-APPLE-STRUCTURED-LOCATION;VALUE=URI;X-ADDRESS=Zapata y Santos Dumont\, Bu
 enos Aires\, CABA\, 1426\, Argentina;X-APPLE-RADIUS=100;X-TITLE=Casa Claud
 io Naranjo:geo:-34.585023,-58.448412
END:VEVENT
BEGIN:VTIMEZONE
TZID:America/Argentina/Buenos_Aires
X-LIC-LOCATION:America/Argentina/Buenos_Aires
BEGIN:STANDARD
DTSTART:20240124T190000
TZOFFSETFROM:-0300
TZOFFSETTO:-0300
TZNAME:-03
END:STANDARD
END:VTIMEZONE
END:VCALENDAR